BEGIN:VCALENDAR
VERSION:2.0
BEGIN:VEVENT
DTSTART:20260711
DTEND:20260712
LOCATION:Southend-on-sea; United Kingdom
SUMMARY:Python for A-Level Mathematics and Beyond
URL:https://ima.org.uk/28544/python-for-a-level-mathematics-and-beyond-2/
END:VEVENT
END:VCALENDAR