BEGIN:VCALENDAR
VERSION:2.0
BEGIN:VEVENT
DTSTART:20260930
DTEND:20261003
LOCATION:Braga; Portugal
SUMMARY:Analysis and Geometry at the Crossroads
URL:https://agcrossroads2026.keniercastillo.com
END:VEVENT
END:VCALENDAR